BEGIN:VCALENDAR
VERSION:2.0
CALSCALE:GREGORIAN
PRODID:-//Diputació de Barcelona//DibaCMS//EN
BEGIN:VEVENT
UID:5588
DTSTAMP:20260423T103226
DTSTART:20221008T080000
DTEND:20221008T210000
SUMMARY:Sortida a Portaventura
LOCATION:
METHOD:PUBLISH
X-WR-CALNAME:st.hipolit@santhipolitdevoltrega.cat
X-WR-TIMEZONE:Europe/Madrid
DESCRIPTION:Sortida 8 h des de l'aparcament de sota La Pista
Arribada 21 h a l'aparcament de sota La Pista

Inscripcions a culturashv.cat

Adreçat a joves de 12 a 29 anys del voltreganès

 

URI:https://www.santhipolitdevoltrega.cat/actualitat/agenda/sortida-a-portaventura.html
CLASS:PUBLIC
END:VEVENT
END:VCALENDAR
