BEGIN:VCALENDAR
VERSION:2.0
CALSCALE:GREGORIAN
PRODID:-//Diputació de Barcelona//DibaCMS//EN
BEGIN:VEVENT
UID:5027
DTSTAMP:20260419T174402
DTSTART:20210824T000000
DTEND:20210824T000000
SUMMARY:FM Oktoberfest
LOCATION:
METHOD:PUBLISH
X-WR-CALNAME:st.hipolit@santhipolitdevoltrega.cat
X-WR-TIMEZONE:Europe/Madrid
DESCRIPTION:A la Pista a les 18 h .

URI:https://www.santhipolitdevoltrega.cat/actualitat/agenda/fm-oktoberfest.html
CLASS:PUBLIC
END:VEVENT
END:VCALENDAR
