BEGIN:VCALENDAR
VERSION:2.0
CALSCALE:GREGORIAN
PRODID:-//Diputació de Barcelona//DibaCMS//EN
BEGIN:VEVENT
UID:5015
DTSTAMP:20260419T175031
DTSTART:20210829T183000
DTEND:20210829T193000
SUMMARY:FM Espectacle Familiar EL POT PETIT (actuació tarda)
LOCATION:Carretera de Sant Boi del Lluçanès BV-4608 amb carrer Indústria SN 08512 Sant Hipòlit de Voltregà
METHOD:PUBLISH
X-WR-CALNAME:st.hipolit@santhipolitdevoltrega.cat
X-WR-TIMEZONE:Europe/Madrid
DESCRIPTION:Espectacle musical familiar.

Dues actuacions.
Inscripcions a www.culturashv.cat

URI:https://www.santhipolitdevoltrega.cat/actualitat/agenda/fm-espectacle-familiar-el-pot-petit-actuacio-tarda.html
CLASS:PUBLIC
END:VEVENT
END:VCALENDAR
