BEGIN:VCALENDAR
VERSION:2.0
CALSCALE:GREGORIAN
PRODID:-//Diputació de Barcelona//DibaCMS//EN
BEGIN:VEVENT
UID:5009
DTSTAMP:20260424T092314
DTSTART:20210828T110000
DTEND:20210828T120000
SUMMARY:FM Torneig de Ping Pong
LOCATION:Passatge Victorià Oliveras de la Riva, S/N 08512 Sant Hipòlit de Voltregà
METHOD:PUBLISH
X-WR-CALNAME:st.hipolit@santhipolitdevoltrega.cat
X-WR-TIMEZONE:Europe/Madrid
DESCRIPTION:Inscripcions al mateix lloc, a La Pista abans de començar 

URI:https://www.santhipolitdevoltrega.cat/actualitat/agenda/fm-torneig-de-ping-pong.html
CLASS:PUBLIC
END:VEVENT
END:VCALENDAR
