BEGIN:VCALENDAR
VERSION:2.0
CALSCALE:GREGORIAN
PRODID:-//Diputació de Barcelona//DibaCMS//EN
BEGIN:VEVENT
UID:4890
DTSTAMP:20260424T130243
DTSTART:20210523T180000
DTEND:20210523T190000
SUMMARY:Taller de serigrafia feminista | Festa Jov@
LOCATION:La Casa del Mallol 
METHOD:PUBLISH
X-WR-CALNAME:st.hipolit@santhipolitdevoltrega.cat
X-WR-TIMEZONE:Europe/Madrid
DESCRIPTION:Taller de serigrafia feminista a càrrec de @ZINTETA.

Activitat  adreçada a joves de més e 16 anys.

URI:https://www.santhipolitdevoltrega.cat/actualitat/agenda/taller-de-serigrafia-feminista--festa-jova.html
CLASS:PUBLIC
END:VEVENT
END:VCALENDAR
