BEGIN:VCALENDAR
VERSION:2.0
CALSCALE:GREGORIAN
PRODID:-//Diputació de Barcelona//DibaCMS//EN
BEGIN:VEVENT
UID:4855
DTSTAMP:20260420T054901
DTSTART:20210422T173000
DTEND:20210422T183000
SUMMARY:Presentació del llibre infantil "L'ILLA" i Taller crea la teva illa
LOCATION:A la Casa del Mallol 
METHOD:PUBLISH
X-WR-CALNAME:st.hipolit@santhipolitdevoltrega.cat
X-WR-TIMEZONE:Europe/Madrid
DESCRIPTION:Presentació del Llibre infantil "l'Illa" de Maria Saladich i Eudald Palma i seguidament taller de creació de la nostra pròpia illa.

Per assistir a aquesta activitat cal fer reserva online a la pàgina culturasanthipolitdevoltrega.cat

URI:https://www.santhipolitdevoltrega.cat/actualitat/agenda/presentacio-del-llibre-infantil-lilla-i-taller-crea-la-teva-illa.html
CLASS:PUBLIC
END:VEVENT
END:VCALENDAR
