BEGIN:VCALENDAR
VERSION:2.0
CALSCALE:GREGORIAN
PRODID:-//Diputació de Barcelona//DibaCMS//EN
BEGIN:VEVENT
UID:4186
DTSTAMP:20260420T124323
DTSTART:20200514T193000
DTEND:20200514T203000
SUMMARY:TROBADA DE CLUBS DE LECTURA D'OSONA
LOCATION:Biblioteca de Roda de Ter 
METHOD:PUBLISH
X-WR-CALNAME:st.hipolit@santhipolitdevoltrega.cat
X-WR-TIMEZONE:Europe/Madrid
DESCRIPTION:
URI:https://www.santhipolitdevoltrega.cat/actualitat/agenda/4186-trobada-de-clubs-de-lectura-dosona.html
CLASS:PUBLIC
END:VEVENT
END:VCALENDAR
