BEGIN:VCALENDAR
VERSION:2.0
CALSCALE:GREGORIAN
PRODID:-//Diputació de Barcelona//DibaCMS//EN
BEGIN:VEVENT
UID:3862
DTSTAMP:20260419T142408
DTSTART:20191031T170000
DTEND:20191031T190000
SUMMARY:La Caseta de les Emocions, ludoteca Ganxo: Educació no sexista, eines i orientacions. 
LOCATION:Carrer Batlle Serrallonga, 4 08512 Sant Hipòlit de Voltregà
METHOD:PUBLISH
X-WR-CALNAME:st.hipolit@santhipolitdevoltrega.cat
X-WR-TIMEZONE:Europe/Madrid
DESCRIPTION:
URI:https://www.santhipolitdevoltrega.cat/actualitat/agenda/la-caseta-de-les-emocions-ludoteca-ganxo-educacio-no-sexista-eines-i-orientacions-.html
CLASS:PUBLIC
END:VEVENT
END:VCALENDAR
