BEGIN:VCALENDAR
VERSION:2.0
CALSCALE:GREGORIAN
PRODID:-//Diputació de Barcelona//DibaCMS//EN
BEGIN:VEVENT
UID:3856
DTSTAMP:20260421T075157
DTSTART:20191027T180000
DTEND:20191027T193000
SUMMARY:HISTÒRIA D’UN MITJÓ, DE LA CANICA TEATRO
LOCATION:Carrer de l'Església,1 08512 Sant Hipòlit de Voltregà
METHOD:PUBLISH
X-WR-CALNAME:st.hipolit@santhipolitdevoltrega.cat
X-WR-TIMEZONE:Europe/Madrid
DESCRIPTION:Ton i Tin són un parell de mitjons inseparables.
On està Tin està Ton i on està Ton està Tin.
Des de petits han crescut junts compartint rialles aventures i entremaliadures.
Un bon dia Ton desapareix i Tin ha d’emprendre un viatge a la seva recerca, un viatge ple de sorpreses que el portarà a racons insospitats: mitjons, llençols, pantalons, pals de fregar, escombres, planxes i altres objectes quotidians donen vida a la nova creació de la Bala, la seva proposta teatral més divertida i desenfadada.

“Història d’un mitjó” és un espectacle de teatre d’objectes recomanat per a nens de 4 a 8 anys i familiar. Ha estat dirigit per Pablo Vergne.

URI:https://www.santhipolitdevoltrega.cat/actualitat/agenda/historia-dun-mitjo-de-la-canica-teatro.html
CLASS:PUBLIC
END:VEVENT
END:VCALENDAR
