BEGIN:VCALENDAR
VERSION:2.0
CALSCALE:GREGORIAN
PRODID:-//Diputació de Barcelona//DibaCMS//EN
BEGIN:VEVENT
UID:3837
DTSTAMP:20260421T043858
DTSTART:20191201T120000
DTEND:20191201T133000
SUMMARY:Un món de cartró
LOCATION:Carrer Bisbe Morgades, 1 08512 Sant Hipòlit de Voltregà
METHOD:PUBLISH
X-WR-CALNAME:st.hipolit@santhipolitdevoltrega.cat
X-WR-TIMEZONE:Europe/Madrid
DESCRIPTION:Un espai ple de caixes de cartró i un conte obriran les portes a un nou món per menuts i grans. La companyia anirà desgranant el conte a través de jocs, cançons originals, propostes de moviment i altres músiques. A mesura que avança la trama, l’espai es va transformant, construint i deconstruint, les caixes de cartró són els instruments, el vestuari, l’atrezzo i l’escenografia de l’espectacle.

URI:https://www.santhipolitdevoltrega.cat/actualitat/agenda/un-mon-de-cartro.html
CLASS:PUBLIC
END:VEVENT
END:VCALENDAR
