BEGIN:VCALENDAR
VERSION:2.0
CALSCALE:GREGORIAN
PRODID:-//Diputació de Barcelona//DibaCMS//EN
BEGIN:VEVENT
UID:3701
DTSTAMP:20260423T151749
DTSTART:20190623T211500
DTEND:20190624T000000
SUMMARY: Arribada de la Flama del Canigó 
LOCATION:Al Monument de Mossèn Cinto Verdaguer 
METHOD:PUBLISH
X-WR-CALNAME:st.hipolit@santhipolitdevoltrega.cat
X-WR-TIMEZONE:Europe/Madrid
DESCRIPTION:Celebrem la nit més curta de l'any amb l'arribada de la Flama del Canigó a les 21:15 h al Monument de Mosspen Cinto Verdaguer.

URI:https://www.santhipolitdevoltrega.cat/actualitat/agenda/-arribada-de-la-flama-del-canigo-.html
CLASS:PUBLIC
END:VEVENT
END:VCALENDAR
