BEGIN:VCALENDAR
VERSION:2.0
CALSCALE:GREGORIAN
PRODID:-//Diputació de Barcelona//DibaCMS//EN
BEGIN:VEVENT
UID:3689
DTSTAMP:20260423T153228
DTSTART:20190701T170000
DTEND:20190726T200000
SUMMARY:TALLER DE RESTAURACIÓ BESTIARI DEL DRAC QUE VOL TRAGAR
LOCATION:Carrer de l'Església,1 08512 Sant Hipòlit de Voltregà
METHOD:PUBLISH
X-WR-CALNAME:st.hipolit@santhipolitdevoltrega.cat
X-WR-TIMEZONE:Europe/Madrid
DESCRIPTION:DE L’1 AL 26 DE JULIOL ELS DIMECRES
DE LES 17 H A LES 20 H
ALS VESTIDORS DEL TEATRE

URI:https://www.santhipolitdevoltrega.cat/actualitat/agenda/taller-de-restauracio-bestiari-del-drac-que-vol-tragar.html
CLASS:PUBLIC
END:VEVENT
END:VCALENDAR
