BEGIN:VCALENDAR
VERSION:2.0
CALSCALE:GREGORIAN
PRODID:-//Diputació de Barcelona//DibaCMS//EN
BEGIN:VEVENT
UID:3684
DTSTAMP:20260423T122131
DTSTART:20190709T203000
DTEND:20190709T204600
SUMMARY:FESTIVAL ARTOT 2019: PICNIC ON THE MOON
LOCATION:Passatge Victorià Oliveras de la Riva, S/N 08512 Sant Hipòlit de Voltregà
METHOD:PUBLISH
X-WR-CALNAME:st.hipolit@santhipolitdevoltrega.cat
X-WR-TIMEZONE:Europe/Madrid
DESCRIPTION:Picnic on the Moon és el “tableau vivant’’ de dos éssers al Sud
de França passant la tarda al parc, gaudint d’un pícnic sota el
sol amb la suau brisa acariciant els seus cabells. Què passaria
si de cop i volta se n’adonessin de que el sol en realitat és una
bombeta i que aquesta brisa prové d’un ventilador?

URI:https://www.santhipolitdevoltrega.cat/actualitat/agenda/festival-artot-2019-picnic-on-the-moon.html
CLASS:PUBLIC
END:VEVENT
END:VCALENDAR
