BEGIN:VCALENDAR
VERSION:2.0
CALSCALE:GREGORIAN
PRODID:-//Diputació de Barcelona//DibaCMS//EN
BEGIN:VEVENT
UID:3683
DTSTAMP:20260423T160017
DTSTART:20190708T210000
DTEND:20190708T220000
SUMMARY:FESTIVAL ARTOT 2019: MY HIP HOP HISTORY
LOCATION:
METHOD:PUBLISH
X-WR-CALNAME:st.hipolit@santhipolitdevoltrega.cat
X-WR-TIMEZONE:Europe/Madrid
DESCRIPTION:Sons, ritme, colors i paraules per reviure una història de revolta, llibertat i expressió: Hip-Hop

URI:https://www.santhipolitdevoltrega.cat/actualitat/agenda/festival-artot-2019-my-hip-hop-history.html
CLASS:PUBLIC
END:VEVENT
END:VCALENDAR
