BEGIN:VCALENDAR
VERSION:2.0
CALSCALE:GREGORIAN
PRODID:-//Diputació de Barcelona//DibaCMS//EN
BEGIN:VEVENT
UID:3678
DTSTAMP:20260423T134833
DTSTART:20190702T213000
DTEND:20190702T223000
SUMMARY:FESTIVAL ARTOT 2019: JULIOL THE BLACK BLUES BROTHERS
LOCATION:
METHOD:PUBLISH
X-WR-CALNAME:st.hipolit@santhipolitdevoltrega.cat
X-WR-TIMEZONE:Europe/Madrid
DESCRIPTION:John Belushi i Dan Aykroyd s’han quintuplicat. Ara són Kevin,
Michael, Norris, Dennis i Sylvester; la mateixa camisa blanca,
les mateixes ulleres Rayban i bona part de les cançons del mític
film dirigit per John Landis l’any 1980. A partir d’aquí, creativitat,
potència i les més espectaculars acrobàcies. Circ contemporani
i comèdia musical en perfecta fusió. Jazz, blues i un repertori
vastíssim de disciplines circenses.

URI:https://www.santhipolitdevoltrega.cat/actualitat/agenda/3678-festival-artot-2019-juliol-the-black-blues-brothers.html
CLASS:PUBLIC
END:VEVENT
END:VCALENDAR
