BEGIN:VCALENDAR
VERSION:2.0
CALSCALE:GREGORIAN
PRODID:-//Diputació de Barcelona//DibaCMS//EN
BEGIN:VEVENT
UID:3675
DTSTAMP:20260423T152910
DTSTART:20190618T000000
DTEND:20190618T000000
SUMMARY:FESTIVAL ARTOT 2019: CONCERT DELS ALUMNES DE L’ESCOLA MUNICIPAL DE MÚSICA DE SANT HIPÒLIT DE VOLTREGÀ
LOCATION:
METHOD:PUBLISH
X-WR-CALNAME:st.hipolit@santhipolitdevoltrega.cat
X-WR-TIMEZONE:Europe/Madrid
DESCRIPTION:Encetem el festival Artot d'aquest any amb un concert a càrrec dels alumnes de l'Escola Municipal de Música del municipi

URI:https://www.santhipolitdevoltrega.cat/actualitat/agenda/3675-festival-artot-2019-concert-dels-alumnes-de-lescola-municipal-de-musica-de-sant-hipolit-de-voltrega.html
CLASS:PUBLIC
END:VEVENT
END:VCALENDAR
