BEGIN:VCALENDAR
VERSION:2.0
CALSCALE:GREGORIAN
PRODID:-//Diputació de Barcelona//DibaCMS//EN
BEGIN:VEVENT
UID:3456
DTSTAMP:20260423T122429
DTSTART:20190106T120000
DTEND:20190106T140000
SUMMARY:El Quinto de Ràdio Voltregà
LOCATION:Carrer Bisbe Morgades, 1 08512 Sant Hipòlit de Voltregà
METHOD:PUBLISH
X-WR-CALNAME:st.hipolit@santhipolitdevoltrega.cat
X-WR-TIMEZONE:Europe/Madrid
DESCRIPTION:Ep! Els del Quinto tornem!!

És el dia dels #Booms, amb premis encara més espectaculars!

Recorda que a la sessió de les 20 h pots venir a veure'ns en directe a l'estudi de la ràdio.

Que no se t'escapin els premis! T'hi esperem!!

URI:https://www.santhipolitdevoltrega.cat/actualitat/agenda/3456-el-quinto-de-radio-voltrega.html
CLASS:PUBLIC
END:VEVENT
END:VCALENDAR
