BEGIN:VCALENDAR
VERSION:2.0
CALSCALE:GREGORIAN
PRODID:-//Diputació de Barcelona//DibaCMS//EN
BEGIN:VEVENT
UID:3452
DTSTAMP:20260423T120930
DTSTART:20181225T200000
DTEND:20181225T230000
SUMMARY:El Quinto de Ràdio Voltregà
LOCATION:Carrer Bisbe Morgades, 1 08512 Sant Hipòlit de Voltregà
METHOD:PUBLISH
X-WR-CALNAME:st.hipolit@santhipolitdevoltrega.cat
X-WR-TIMEZONE:Europe/Madrid
DESCRIPTION:Psst! Psst! Sóm els del Quinto! Sí!!! El Quinto de Ràdio Voltregà!

Vine a jugar amb nosaltres!

Fem dues sessions cada dia: a les 12 del migdia i a les 8 del vespre.

Regalarem paneres de productes oferts pels comerços del Voltreganès.

Escolta'ns per la ràdio o bé online per Internet. 

https://radiovoltrega.com/

 

Un mateix cartró et dóna dret a jugar tots els dies (2 sessions de 2 quintos cada dia).

Els pots comprar als comerços del poble o als estudis de Ràdio Voltregà, més informació aquí: https://radiovoltrega.com/

 

_______________________________

Per més informació:

http://www.quinto.radiovoltrega.com/

https://radiovoltrega.com/

URI:https://www.santhipolitdevoltrega.cat/actualitat/agenda/3452-el-quinto-de-radio-voltrega.html
CLASS:PUBLIC
END:VEVENT
END:VCALENDAR
