BEGIN:VCALENDAR
VERSION:2.0
CALSCALE:GREGORIAN
PRODID:-//Diputació de Barcelona//DibaCMS//EN
BEGIN:VEVENT
UID:3450
DTSTAMP:20260423T134056
DTSTART:20181226T180000
DTEND:20181226T193000
SUMMARY:Concert de Sant Esteve
LOCATION:Carrer Bisbe Morgades, 1 08512 Sant Hipòlit de Voltregà
METHOD:PUBLISH
X-WR-CALNAME:st.hipolit@santhipolitdevoltrega.cat
X-WR-TIMEZONE:Europe/Madrid
DESCRIPTION:El dia 26 de desembre de 2018 a les 18 h tindrem el plaer d'escoltar un recital de poesia amb la veu de Gabriel Salvans i la música al piano de Sergeï Klimenko a l'auditori de l'Ateneu de Sant Hipòlit de Voltregà.

No hi faltis!

URI:https://www.santhipolitdevoltrega.cat/actualitat/agenda/3450-concert-de-sant-esteve.html
CLASS:PUBLIC
END:VEVENT
END:VCALENDAR
