BEGIN:VCALENDAR
VERSION:2.0
CALSCALE:GREGORIAN
PRODID:-//Diputació de Barcelona//DibaCMS//EN
BEGIN:VEVENT
UID:3418
DTSTAMP:20260423T185120
DTSTART:20181227T103000
DTEND:20181227T123000
SUMMARY:Club de la feina
LOCATION:Carretera de Sant Boi de Lluçanès, s/n La Gleva 
METHOD:PUBLISH
X-WR-CALNAME:st.hipolit@santhipolitdevoltrega.cat
X-WR-TIMEZONE:Europe/Madrid
DESCRIPTION:El Club de la Feina fa vacances per Nadal. Bones festes!

URI:https://www.santhipolitdevoltrega.cat/actualitat/agenda/3418-club-de-la-feina.html
CLASS:PUBLIC
END:VEVENT
END:VCALENDAR
