BEGIN:VCALENDAR
VERSION:2.0
CALSCALE:GREGORIAN
PRODID:-//Diputació de Barcelona//DibaCMS//EN
BEGIN:VEVENT
UID:3384
DTSTAMP:20260423T115328
DTSTART:20181202T180000
DTEND:20181202T193000
SUMMARY:Alícia al país de les meravelles | Musical
LOCATION:Carrer de l'Església,1 08512 Sant Hipòlit de Voltregà
METHOD:PUBLISH
X-WR-CALNAME:st.hipolit@santhipolitdevoltrega.cat
X-WR-TIMEZONE:Europe/Madrid
DESCRIPTION:El dia que l’Alícia fa deu anys, li regalen el primer mòbil. El conill blanc, però, l’hi roba i ella haurà de recórrer el país de les meravelles fins arribar al palau dels mòbils per recuperar-lo. Ho aconseguirà? Amb aquest viatge, l’Alícia s’adona que no pot viure com fins ara, que enganxada al mòbil es perd moltes coses, com el valor de la imaginació i de la lectura. Després d’emocionar-nos amb Litus, la dramaturga Marta Buchaca s’ajunta amb Viu el Teatre per presentar una Alícia rabiosament contemporània i actualitzada. Una versió del mite de Lewis Carroll amb la qual és impossible que grans i petits no s’identifiquin i reflexionin. Una comèdia musical que farà riure, emocionar i gaudir a tota la família.

URI:https://www.santhipolitdevoltrega.cat/actualitat/agenda/alicia-al-pais-de-les-meravelles--musical.html
CLASS:PUBLIC
END:VEVENT
END:VCALENDAR
