BEGIN:VCALENDAR
VERSION:2.0
CALSCALE:GREGORIAN
PRODID:-//Diputació de Barcelona//DibaCMS//EN
BEGIN:VEVENT
UID:3383
DTSTAMP:20260423T134747
DTSTART:20181125T180000
DTEND:20181125T193000
SUMMARY:El Silenci d'Hamelín | Titelles
LOCATION:Carrer de l'Església,1 08512 Sant Hipòlit de Voltregà
METHOD:PUBLISH
X-WR-CALNAME:st.hipolit@santhipolitdevoltrega.cat
X-WR-TIMEZONE:Europe/Madrid
DESCRIPTION:Què passaria si al conte del famós flautista hi hagués una nena sorda? La Clara i el Bruno són germans. Són dos dels nens que van viure allò que va passar a la ciutat d’Hamelín. Ara ja són grans, i un personatge estrany els ha demanat d’explicar-ho de nou.

De vegades cal tornar al passat per posar les coses a lloc. Objectes, paraules, llengua de signes, un DJ particular, silenci… i els avantatges de tenir desavantatges. Un espectacle al voltant de les altres capacitats i les coses que no es diuen… que acaben surant a la superfície.

URI:https://www.santhipolitdevoltrega.cat/actualitat/agenda/el-silenci-dhamelin--titelles.html
CLASS:PUBLIC
END:VEVENT
END:VCALENDAR
