BEGIN:VCALENDAR
VERSION:2.0
CALSCALE:GREGORIAN
PRODID:-//Diputació de Barcelona//DibaCMS//EN
BEGIN:VEVENT
UID:3371
DTSTAMP:20260423T140530
DTSTART:20181122T201500
DTEND:20181122T221500
SUMMARY:Taller de Nadal | Comerç del Voltreganès
LOCATION:Carrer Batlle Serrallonga, 4 08512 Sant Hipòlit de Voltregà
METHOD:PUBLISH
X-WR-CALNAME:st.hipolit@santhipolitdevoltrega.cat
X-WR-TIMEZONE:Europe/Madrid
DESCRIPTION:Taller de Nadal adreçat als comerços del Voltreganès. Píndola formativa, pràctica 100% on el comerciant aprendrà a crear un concepte nadalenc per al seu comerç.

URI:https://www.santhipolitdevoltrega.cat/actualitat/agenda/3371-taller-de-nadal--comerc-del-voltreganes.html
CLASS:PUBLIC
END:VEVENT
END:VCALENDAR
