BEGIN:VCALENDAR
VERSION:2.0
CALSCALE:GREGORIAN
PRODID:-//Diputació de Barcelona//DibaCMS//EN
BEGIN:VEVENT
UID:3368
DTSTAMP:20260423T121032
DTSTART:20181117T100000
DTEND:20181117T200000
SUMMARY:Exposició d'Amigurumis | Projecte solidari per a infants hospitalitzats
LOCATION:Carrer Bisbe Morgades, 1 08512 Sant Hipòlit de Voltregà
METHOD:PUBLISH
X-WR-CALNAME:st.hipolit@santhipolitdevoltrega.cat
X-WR-TIMEZONE:Europe/Madrid
DESCRIPTION:L’Àngels Vila i la resta de voluntàries del projecte Llanetes amb Companyia, organitzen una exposició dels ninots de ganxet que fan pels infants hospitalitzats, aquests ninots tant divertits tenen el nom d'Amigurumis.

Horari: de 10 a 14 hores i de 16 a 20 hores

 

URI:https://www.santhipolitdevoltrega.cat/actualitat/agenda/exposicio-damigurumis--projecte-solidari-per-a-infants-hospitalitzats.html
CLASS:PUBLIC
END:VEVENT
END:VCALENDAR
