BEGIN:VCALENDAR
VERSION:2.0
CALSCALE:GREGORIAN
PRODID:-//Diputació de Barcelona//DibaCMS//EN
BEGIN:VEVENT
UID:3355
DTSTAMP:20260421T083020
DTSTART:20181202T173000
DTEND:20181202T183000
SUMMARY:Taller de Trap amb "LAS VVITCH" | Novembre Lila
LOCATION:Carrer Bisbe Morgades, 1 08512 Sant Hipòlit de Voltregà
METHOD:PUBLISH
X-WR-CALNAME:st.hipolit@santhipolitdevoltrega.cat
X-WR-TIMEZONE:Europe/Madrid
DESCRIPTION:El gènere musical del trap ha generat un univers de referències musicals i audiovisuals amb continguts, sovint, explícitament masclistes. El taller proposa una revisió crítica de les narratives del trap i una resposta creativa davant la naturalització de les violències. Si la música és la teva passió i t'agradaira aprendre a fer trap, no ho dubtis i inscriu-t'hi!

URI:https://www.santhipolitdevoltrega.cat/actualitat/agenda/taller-de-trap-amb-las-vvitch--novembre-lila.html
CLASS:PUBLIC
END:VEVENT
END:VCALENDAR
