BEGIN:VCALENDAR
VERSION:2.0
CALSCALE:GREGORIAN
PRODID:-//Diputació de Barcelona//DibaCMS//EN
BEGIN:VEVENT
UID:3354
DTSTAMP:20260423T134213
DTSTART:20181201T180000
DTEND:20181201T190000
SUMMARY:Workshop amb Roberto Oliván | Novembre Lila
LOCATION:Carrer Bisbe Morgades, 1 08512 Sant Hipòlit de Voltregà
METHOD:PUBLISH
X-WR-CALNAME:st.hipolit@santhipolitdevoltrega.cat
X-WR-TIMEZONE:Europe/Madrid
DESCRIPTION:Si el món de l'espectacle és el que t'apassiona, vine a conèixer trajectòria i experiència professional d'en Roberto Oliván i el seu equip. En una segona part es farà un taller pràctic de dansa contemporània.

URI:https://www.santhipolitdevoltrega.cat/actualitat/agenda/workshop-amb-roberto-olivan--novembre-lila.html
CLASS:PUBLIC
END:VEVENT
END:VCALENDAR
