BEGIN:VCALENDAR
VERSION:2.0
CALSCALE:GREGORIAN
PRODID:-//Diputació de Barcelona//DibaCMS//EN
BEGIN:VEVENT
UID:3353
DTSTAMP:20260423T134717
DTSTART:20181125T180000
DTEND:20181125T190000
SUMMARY:Microteatre La Corda | Novembre Lila 
LOCATION:Carrer Bisbe Morgades, 1 08512 Sant Hipòlit de Voltregà
METHOD:PUBLISH
X-WR-CALNAME:st.hipolit@santhipolitdevoltrega.cat
X-WR-TIMEZONE:Europe/Madrid
DESCRIPTION:Després de trucar dinou vegades a la seva xicota, en marc aconsegueix parlar-hi. Camina nerviós i desconfiat. Vol saber on és, què està fent i per què ha tardat tant a contestar. Està amb algú? L'ha mentit? Té a veure amb aquell noi que va conèixer dissabte passat? L'amic de la Marta? O amb el seu company de pràctiques?----

URI:https://www.santhipolitdevoltrega.cat/actualitat/agenda/microteatre-la-corda--novembre-lila-.html
CLASS:PUBLIC
END:VEVENT
END:VCALENDAR
