BEGIN:VCALENDAR
VERSION:2.0
CALSCALE:GREGORIAN
PRODID:-//Diputació de Barcelona//DibaCMS//EN
BEGIN:VEVENT
UID:3352
DTSTAMP:20260423T140625
DTSTART:20181124T173000
DTEND:20181124T183000
SUMMARY:Taller de Teatre Social | Novembre Lila
LOCATION:Carrer Batlle Serrallonga, 4 08512 Sant Hipòlit de Voltregà
METHOD:PUBLISH
X-WR-CALNAME:st.hipolit@santhipolitdevoltrega.cat
X-WR-TIMEZONE:Europe/Madrid
DESCRIPTION:Tant si fas teatre com si simplement tens curiositat per aquest món, aquest taller és per a tu! Participa en aquest taller, en què els protagonistes són els mateixos participants... El teatare social és una eina interactiva per a la transformació social a partir de processos creatius.

URI:https://www.santhipolitdevoltrega.cat/actualitat/agenda/taller-de-teatre-social--novembre-lila.html
CLASS:PUBLIC
END:VEVENT
END:VCALENDAR
