BEGIN:VCALENDAR
VERSION:2.0
CALSCALE:GREGORIAN
PRODID:-//Diputació de Barcelona//DibaCMS//EN
BEGIN:VEVENT
UID:3351
DTSTAMP:20260421T094509
DTSTART:20181118T180000
DTEND:20181118T190000
SUMMARY:Microteatre amb Albert & Berta | Novembre Lila 
LOCATION:Carrer Bisbe Morgades, 1 08512 Sant Hipòlit de Voltregà
METHOD:PUBLISH
X-WR-CALNAME:st.hipolit@santhipolitdevoltrega.cat
X-WR-TIMEZONE:Europe/Madrid
DESCRIPTION:L'Albert, quan va néixer, no es deia Albert, es deia Berta. De petita i, després, d'adolescent li va costar feina i treballs racionalitzar què li passava, comprendre per què la seva vida no era com la de la majoria, entendre per què, tenint cos de noia, ell se sentia noi. Però ara, l'Albert ha après a trobar el seu lloc. 

URI:https://www.santhipolitdevoltrega.cat/actualitat/agenda/microteatre-amb-albert-and-berta--novembre-lila-.html
CLASS:PUBLIC
END:VEVENT
END:VCALENDAR
