BEGIN:VCALENDAR
VERSION:2.0
CALSCALE:GREGORIAN
PRODID:-//Diputació de Barcelona//DibaCMS//EN
BEGIN:VEVENT
UID:3350
DTSTAMP:20260421T095152
DTSTART:20181116T173000
DTEND:20181116T183000
SUMMARY:Xerrada-conversa "Si m'estimessis..." | Novembre Lila
LOCATION:Carrer Batlle Serrallonga, 4 08512 Sant Hipòlit de Voltregà
METHOD:PUBLISH
X-WR-CALNAME:st.hipolit@santhipolitdevoltrega.cat
X-WR-TIMEZONE:Europe/Madrid
DESCRIPTION:El masclisme es veu en la nostra manera de relacionar-nos sexualment i sensualment entre nosaltres. La violència envers les noies no només és física, per això trobareu un espai de reflexió i debat, dirigit i moderat per Elena Crespi, sobre la violència en les relacions afectives i sexuals: Com identifiquem aquetes relacions? Quins recursos i quins drets tenim les noies?

URI:https://www.santhipolitdevoltrega.cat/actualitat/agenda/xerrada-conversa-si-mestimessis--novembre-lila.html
CLASS:PUBLIC
END:VEVENT
END:VCALENDAR
