BEGIN:VCALENDAR
VERSION:2.0
CALSCALE:GREGORIAN
PRODID:-//Diputació de Barcelona//DibaCMS//EN
BEGIN:VEVENT
UID:3349
DTSTAMP:20260423T140800
DTSTART:20181111T173000
DTEND:20181111T190000
SUMMARY:Taller de coreografies de teatre musical amb Guillem Cirera | Novembre Lila
LOCATION:Carrer Batlle Serrallonga, 4 08512 Sant Hipòlit de Voltregà
METHOD:PUBLISH
X-WR-CALNAME:st.hipolit@santhipolitdevoltrega.cat
X-WR-TIMEZONE:Europe/Madrid
DESCRIPTION:Vols ballar les coreografies de Chicago o de Mamma Mia? Aquí les pots aprendre! Tant si estudies dansa com si simplement t'agrada ballar, vine a descobirir el teatre musical. Diverteix-te ballant i sent protagonista de Brodway!

URI:https://www.santhipolitdevoltrega.cat/actualitat/agenda/taller-de-coreografies-de-teatre-musical-amb-guillem-cirera--novembre-lila.html
CLASS:PUBLIC
END:VEVENT
END:VCALENDAR
