BEGIN:VCALENDAR
VERSION:2.0
CALSCALE:GREGORIAN
PRODID:-//Diputació de Barcelona//DibaCMS//EN
BEGIN:VEVENT
UID:3346
DTSTAMP:20260421T094642
DTSTART:20181031T170000
DTEND:20181031T190000
SUMMARY:Castanyada a La Llar
LOCATION:Carrer Hospital, 11 08512 Sant Hipòlit de Voltregà
METHOD:PUBLISH
X-WR-CALNAME:st.hipolit@santhipolitdevoltrega.cat
X-WR-TIMEZONE:Europe/Madrid
DESCRIPTION:La Llar Fundació Gallifa de Sant Hipòlit un any més celebra la castanyada amb castanyes, coca amb llonganissa i/o xocolata i beguda.

Compra de tiquets a l'Ajuntament fins el dia 29 d'ocubre de 2018. Bona castanyada!

URI:https://www.santhipolitdevoltrega.cat/actualitat/agenda/castanyada-a-la-llar.html
CLASS:PUBLIC
END:VEVENT
END:VCALENDAR
