BEGIN:VCALENDAR
VERSION:2.0
CALSCALE:GREGORIAN
PRODID:-//Diputació de Barcelona//DibaCMS//EN
BEGIN:VEVENT
UID:3331
DTSTAMP:20260423T185456
DTSTART:20181106T090000
DTEND:20181106T173000
SUMMARY:Sortida de tardor a la Fageda d'en Jordà
LOCATION:
METHOD:PUBLISH
X-WR-CALNAME:st.hipolit@santhipolitdevoltrega.cat
X-WR-TIMEZONE:Europe/Madrid
DESCRIPTION:La regidoria de Benestar de l’Ajuntament de Sant Hipòlit organitza pel dia 6 de novembre de 2018 la sortida de tardor a la Fageda d’en Jordà. És una sortida oberta a tothom que inclou una passejada amb carruatge per la Fageda d’en Jordà, visita a la cooperativa La Fageda, dinar al restaurant Lava Parc i una visita de la zona volcànica amb carrilet.

URI:https://www.santhipolitdevoltrega.cat/actualitat/agenda/3331-sortida-de-tardor-a-la-fageda-den-jorda.html
CLASS:PUBLIC
END:VEVENT
END:VCALENDAR
