BEGIN:VCALENDAR
VERSION:2.0
CALSCALE:GREGORIAN
PRODID:-//Diputació de Barcelona//DibaCMS//EN
BEGIN:VEVENT
UID:3326
DTSTAMP:20260421T095311
DTSTART:20181119T193000
DTEND:20181119T203000
SUMMARY:Club de lectura
LOCATION:Carrer de la Vinya , 2 08512 Sant Hipòlit de Voltregà
METHOD:PUBLISH
X-WR-CALNAME:st.hipolit@santhipolitdevoltrega.cat
X-WR-TIMEZONE:Europe/Madrid
DESCRIPTION:Durant tot el mes de novembre, exposició sobre la mostra de llibres relacionada amb el 25 de novembre, Dia de la no-violència envers les dones.

URI:https://www.santhipolitdevoltrega.cat/actualitat/agenda/club-de-lectura.html
CLASS:PUBLIC
END:VEVENT
END:VCALENDAR
