BEGIN:VCALENDAR
VERSION:2.0
CALSCALE:GREGORIAN
PRODID:-//Diputació de Barcelona//DibaCMS//EN
BEGIN:VEVENT
UID:3325
DTSTAMP:20260423T121457
DTSTART:20181117T103000
DTEND:20181117T120000
SUMMARY:Taller infantil de ciència i música | "Això sí que vibra"
LOCATION:
METHOD:PUBLISH
X-WR-CALNAME:st.hipolit@santhipolitdevoltrega.cat
X-WR-TIMEZONE:Europe/Madrid
DESCRIPTION:"Això sí que vibra", dirigit a infants de 6 a 10 anys. Cal inscripció prèvia.

URI:https://www.santhipolitdevoltrega.cat/actualitat/agenda/taller-infantil-de-ciencia-i-musica--aixo-si-que-vibra.html
CLASS:PUBLIC
END:VEVENT
END:VCALENDAR
