BEGIN:VCALENDAR
VERSION:2.0
CALSCALE:GREGORIAN
PRODID:-//Diputació de Barcelona//DibaCMS//EN
BEGIN:VEVENT
UID:3323
DTSTAMP:20260421T082016
DTSTART:20181109T180000
DTEND:20181109T190000
SUMMARY:Club de lectura juvenil
LOCATION:Carrer de la Vinya , 2 08512 Sant Hipòlit de Voltregà
METHOD:PUBLISH
X-WR-CALNAME:st.hipolit@santhipolitdevoltrega.cat
X-WR-TIMEZONE:Europe/Madrid
DESCRIPTION:Primera trobada del club de lectura juvenil.

URI:https://www.santhipolitdevoltrega.cat/actualitat/agenda/3323-club-de-lectura-juvenil.html
CLASS:PUBLIC
END:VEVENT
END:VCALENDAR
