BEGIN:VCALENDAR
VERSION:2.0
CALSCALE:GREGORIAN
PRODID:-//Diputació de Barcelona//DibaCMS//EN
BEGIN:VEVENT
UID:3322
DTSTAMP:20260423T121739
DTSTART:20181025T193000
DTEND:20181025T203000
SUMMARY:Trobada de Clubs de lectura d'Osona
LOCATION:Biblioteca Joan Triadú 
c/ Arquebisbe Alemany, 5
08500 Vic (Barcelona)
 Telèfon: 93 883 33 25
Correu eletrònic: b.vic.jt@diba.cat 
METHOD:PUBLISH
X-WR-CALNAME:st.hipolit@santhipolitdevoltrega.cat
X-WR-TIMEZONE:Europe/Madrid
DESCRIPTION:Trobada de clubs a la Biblioteca Joan Triadú de Vic, dins el marc del mes de la salut mental.

Durant tot el mes d'octubre exposició de llibres sobre l'ansietat, dins el projecte Osona amb la salut mental.

URI:https://www.santhipolitdevoltrega.cat/actualitat/agenda/trobada-de-clubs-de-lectura-dosona.html
CLASS:PUBLIC
END:VEVENT
END:VCALENDAR
