BEGIN:VCALENDAR
VERSION:2.0
CALSCALE:GREGORIAN
PRODID:-//Diputació de Barcelona//DibaCMS//EN
BEGIN:VEVENT
UID:3321
DTSTAMP:20260423T102146
DTSTART:20181019T180000
DTEND:20181019T190000
SUMMARY:Club de lectura juvenil
LOCATION:Carrer de la Vinya , 2 08512 Sant Hipòlit de Voltregà
METHOD:PUBLISH
X-WR-CALNAME:st.hipolit@santhipolitdevoltrega.cat
X-WR-TIMEZONE:Europe/Madrid
DESCRIPTION:Xerrada informativa adreçada a nois i noies de 1r d'ESO

URI:https://www.santhipolitdevoltrega.cat/actualitat/agenda/club-de-lectura-juvenil.html
CLASS:PUBLIC
END:VEVENT
END:VCALENDAR
