BEGIN:VCALENDAR
VERSION:2.0
CALSCALE:GREGORIAN
PRODID:-//Diputació de Barcelona//DibaCMS//EN
BEGIN:VEVENT
UID:3319
DTSTAMP:20260423T121857
DTSTART:20181028T110000
DTEND:20181028T190000
SUMMARY:Inauguració de l'Skatepark
LOCATION:
METHOD:PUBLISH
X-WR-CALNAME:st.hipolit@santhipolitdevoltrega.cat
X-WR-TIMEZONE:Europe/Madrid
DESCRIPTION:Sant Hipòlit ja disposa d’un nou equipament molt esperat pels joves, i no tan joves, que ofereix als aficionats a l’skateboard, l’scooter, el rolling i la BMX un espai on practicar aquests esports urbans: el nou skatepark.

URI:https://www.santhipolitdevoltrega.cat/actualitat/agenda/inauguracio-de-lskatepark.html
CLASS:PUBLIC
END:VEVENT
END:VCALENDAR
