BEGIN:VCALENDAR
VERSION:2.0
CALSCALE:GREGORIAN
PRODID:-//Diputació de Barcelona//DibaCMS//EN
BEGIN:VEVENT
UID:3304
DTSTAMP:20260423T121207
DTSTART:20181027T080000
DTEND:20181027T210000
SUMMARY:Eskapada jov@ a PortAventura
LOCATION:
METHOD:PUBLISH
X-WR-CALNAME:st.hipolit@santhipolitdevoltrega.cat
X-WR-TIMEZONE:Europe/Madrid
DESCRIPTION:Ei jove! Si tens entre 12 i 18 anys això t'interessa! L'àrea de Joventut de l'Ajuntament, juntament amb les àrees de joventut dels municipis de la comarca d'Osona, organitzen una sortida a PortAventura pel proper dia 27 d'octubre de 2018.

L'eskapada jov@ a PortAventura té un cost de 29 euros (inclou l'entrada i el bus). El bus sortirà a les 8 hores de les piscines de les Masies de Voltregà.

Cal que us inscriviu al Ganxo de Sant Hipòlit de Voltregà, el Biblioaccés de Vinyoles i al Sac de la Gleva, fins el dia 19 d'octubre de 2018.

IMPORTANT: Els menors d'edat cal que porteu l'autorització degudament emplenada i signada pels vostres pares/tutors.

URI:https://www.santhipolitdevoltrega.cat/actualitat/agenda/eskapada-jova-a-portaventura.html
CLASS:PUBLIC
END:VEVENT
END:VCALENDAR
