BEGIN:VCALENDAR
VERSION:2.0
CALSCALE:GREGORIAN
PRODID:-//Diputació de Barcelona//DibaCMS//EN
BEGIN:VEVENT
UID:3297
DTSTAMP:20260423T140453
DTSTART:20180930T180000
DTEND:20180930T200000
SUMMARY:Inauguració de la plaça de l'U d'Octubre
LOCATION:Entre el carrer de l'Hospital i el carrer dels Sants Màrtirs de Sant Hipòlit de Voltregà 
METHOD:PUBLISH
X-WR-CALNAME:st.hipolit@santhipolitdevoltrega.cat
X-WR-TIMEZONE:Europe/Madrid
DESCRIPTION:Els actes començaran a les 18 hores amb una botifarrada popular i l’actuació musical de Joan Usart.

A més de membres del consistori local, encapçalats per l’alcalde Hipòlit Serra, també assistiran a l’acte la delegada territorial de Govern de la Generalitat de Catalunya, Alba Camps Roca, i el president del Consell Comarcal Joan Roca Tió.

URI:https://www.santhipolitdevoltrega.cat/actualitat/agenda/inauguracio-de-la-placa-de-lu-doctubre.html
CLASS:PUBLIC
END:VEVENT
END:VCALENDAR
