BEGIN:VCALENDAR
VERSION:2.0
CALSCALE:GREGORIAN
PRODID:-//Diputació de Barcelona//DibaCMS//EN
BEGIN:VEVENT
UID:3293
DTSTAMP:20260423T174013
DTSTART:20180925T163000
DTEND:20180925T180000
SUMMARY:Viure en Positiu
LOCATION:Carrer Hospital, 11 08512 Sant Hipòlit de Voltregà
METHOD:PUBLISH
X-WR-CALNAME:st.hipolit@santhipolitdevoltrega.cat
X-WR-TIMEZONE:Europe/Madrid
DESCRIPTION:Taller gratuït per a majors de 60 anys que pretén donar eines i recursos per afrontar diferents situacions de la vida i adaptar-nos als canvis de manera positiva.

 

URI:https://www.santhipolitdevoltrega.cat/actualitat/agenda/3293-viure-en-positiu.html
CLASS:PUBLIC
END:VEVENT
END:VCALENDAR
