BEGIN:VCALENDAR
VERSION:2.0
CALSCALE:GREGORIAN
PRODID:-//Diputació de Barcelona//DibaCMS//EN
BEGIN:VEVENT
UID:3292
DTSTAMP:20260423T152256
DTSTART:20181008T160000
DTEND:20181008T180000
SUMMARY:Fes tràmits per internet
LOCATION:Carrer Hospital, 11 08512 Sant Hipòlit de Voltregà
METHOD:PUBLISH
X-WR-CALNAME:st.hipolit@santhipolitdevoltrega.cat
X-WR-TIMEZONE:Europe/Madrid
DESCRIPTION:Curs gratuït d'informàtica per a majors de 60 anys. Adreçat a persones amb uns coneixements bàsics en la utilització de les noves tecnologies de la informació i la comunicació (TIC), que volen conèixer i practicar amb les eines i aplicacions digitals més representatives d’internet i que poden resultar una oportunitat de millora de la seva qualitat de vida.

URI:https://www.santhipolitdevoltrega.cat/actualitat/agenda/fes-tramits-per-internet.html
CLASS:PUBLIC
END:VEVENT
END:VCALENDAR
