BEGIN:VCALENDAR
VERSION:2.0
CALSCALE:GREGORIAN
PRODID:-//Diputació de Barcelona//DibaCMS//EN
BEGIN:VEVENT
UID:3289
DTSTAMP:20260421T064908
DTSTART:20181011T100000
DTEND:20181011T120000
SUMMARY:Club de la Feina
LOCATION:El Sac de La Gleva | Carretera de Lluçanès, s/n 
METHOD:PUBLISH
X-WR-CALNAME:st.hipolit@santhipolitdevoltrega.cat
X-WR-TIMEZONE:Europe/Madrid
DESCRIPTION:Avui el Club de la Feina romandrà tancat!

Us podeu posar en contacte amb nosaltres a través del següent mail promocioeconomica.voltreganes@gmail.com o a través de Whatsapp, al número de telèfon 689 434 984, per fer-nos arribar les vostres inquietud, dubtes, preguntes o el què vulgueu relacionat amb l'ocupació.

Us hi esperem el pròxim dijous, dia 18 d'octubre, d'11 a 13 hores.

Disculpeu les molèsties!

 

URI:https://www.santhipolitdevoltrega.cat/actualitat/agenda/3289-club-de-la-feina.html
CLASS:PUBLIC
END:VEVENT
END:VCALENDAR
