BEGIN:VCALENDAR
VERSION:2.0
CALSCALE:GREGORIAN
PRODID:-//Diputació de Barcelona//DibaCMS//EN
BEGIN:VEVENT
UID:3277
DTSTAMP:20260421T064349
DTSTART:20180920T180000
DTEND:20180920T193000
SUMMARY:Conferència inaugural 2018-2019 | Educar per la felicitat
LOCATION:Ajuntament de les Masies de Voltregà. Casa Forta el Despujol, ctra. C-17z, Pk. 70,400  
METHOD:PUBLISH
X-WR-CALNAME:st.hipolit@santhipolitdevoltrega.cat
X-WR-TIMEZONE:Europe/Madrid
DESCRIPTION:Inspirar, acompanyar i transformar conscientment a persones, empreses i organitzacions és l'ofici de Daniel Gabarró.

URI:https://www.santhipolitdevoltrega.cat/actualitat/agenda/conferencia-inaugural-2018-2019--educar-per-la-felicitat.html
CLASS:PUBLIC
END:VEVENT
END:VCALENDAR
