BEGIN:VCALENDAR
VERSION:2.0
CALSCALE:GREGORIAN
PRODID:-//Diputació de Barcelona//DibaCMS//EN
BEGIN:VEVENT
UID:3261
DTSTAMP:20260421T033357
DTSTART:20180831T230000
DTEND:20180901T020000
SUMMARY:Concert amb Piperrrak, Gatibu, Juantxo Skalri & La Rude Band i Sleeping the Monkey
LOCATION:Passatge Victorià Oliveras de la Riva, S/N 08512 Sant Hipòlit de Voltregà
METHOD:PUBLISH
X-WR-CALNAME:st.hipolit@santhipolitdevoltrega.cat
X-WR-TIMEZONE:Europe/Madrid
DESCRIPTION:Organtiza la Comissió de Festes de Sant Hipòlit de Voltregà.

URI:https://www.santhipolitdevoltrega.cat/actualitat/agenda/concert-amb-piperrrak-gatibu-juantxo-skalri-and-la-rude-band-i-sleeping-the-monkey.html
CLASS:PUBLIC
END:VEVENT
END:VCALENDAR
