BEGIN:VCALENDAR
VERSION:2.0
CALSCALE:GREGORIAN
PRODID:-//Diputació de Barcelona//DibaCMS//EN
BEGIN:VEVENT
UID:3260
DTSTAMP:20260421T094816
DTSTART:20180831T213000
DTEND:20180831T000000
SUMMARY:Correfoc | Festa Major 2018
LOCATION:Recorregut: Inici a la plaça de la Vila - C/ Marquesos de Palmerola - Passatge Parés - C/ de l’Església - C/ de Mossèn Jacint Verdaguer - plaça de la Vila -C/ de Domènec Serrabou - final a la plaça del Torrent de Mitjavila. 
METHOD:PUBLISH
X-WR-CALNAME:st.hipolit@santhipolitdevoltrega.cat
X-WR-TIMEZONE:Europe/Madrid
DESCRIPTION:Després del Pregó de Festa Major es farà el correfoc.

 

URI:https://www.santhipolitdevoltrega.cat/actualitat/agenda/correfoc--festa-major-2018.html
CLASS:PUBLIC
END:VEVENT
END:VCALENDAR
