BEGIN:VCALENDAR
VERSION:2.0
CALSCALE:GREGORIAN
PRODID:-//Diputació de Barcelona//DibaCMS//EN
BEGIN:VEVENT
UID:3259
DTSTAMP:20260421T095816
DTSTART:20180831T210000
DTEND:20180831T220000
SUMMARY:Pregó de Festa Major
LOCATION:Plaça de la Vila 
METHOD:PUBLISH
X-WR-CALNAME:st.hipolit@santhipolitdevoltrega.cat
X-WR-TIMEZONE:Europe/Madrid
DESCRIPTION:L'alcalde, Hipòlit Serra, i el regidor de Cultura i Joventut, Sergi Cirera, us conviden al pregó de Festa Major 2018, que aquest any anirà a càrrec d'Antoni Garrido La Rosa, president del Club de Futbol Voltregà.

URI:https://www.santhipolitdevoltrega.cat/actualitat/agenda/prego-de-festa-major.html
CLASS:PUBLIC
END:VEVENT
END:VCALENDAR
