BEGIN:VCALENDAR
VERSION:2.0
CALSCALE:GREGORIAN
PRODID:-//Diputació de Barcelona//DibaCMS//EN
BEGIN:VEVENT
UID:3258
DTSTAMP:20260423T121405
DTSTART:20180831T193000
DTEND:20180831T203000
SUMMARY:Homenatge als i les esportistes del Voltreganès | Festa Major 2018
LOCATION:Plaça de la Vila | En cas de pluja a la biblioteca municipal Marquès de Remisa 
METHOD:PUBLISH
X-WR-CALNAME:st.hipolit@santhipolitdevoltrega.cat
X-WR-TIMEZONE:Europe/Madrid
DESCRIPTION:
URI:https://www.santhipolitdevoltrega.cat/actualitat/agenda/homenatge-als-i-les-esportistes-del-voltreganes--festa-major-2018.html
CLASS:PUBLIC
END:VEVENT
END:VCALENDAR
