BEGIN:VCALENDAR
VERSION:2.0
CALSCALE:GREGORIAN
PRODID:-//Diputació de Barcelona//DibaCMS//EN
BEGIN:VEVENT
UID:3257
DTSTAMP:20260421T035234
DTSTART:20180830T190000
DTEND:20180830T193000
SUMMARY:Repic de campanes | Festa Major 2018
LOCATION:
METHOD:PUBLISH
X-WR-CALNAME:st.hipolit@santhipolitdevoltrega.cat
X-WR-TIMEZONE:Europe/Madrid
DESCRIPTION:Organitza la Comissió de Festes de Sant Hipòlit de Voltregà.

URI:https://www.santhipolitdevoltrega.cat/actualitat/agenda/repic-de-campanes--festa-major-2018.html
CLASS:PUBLIC
END:VEVENT
END:VCALENDAR
